BEGIN:VCALENDAR
VERSION:2.0
PRODID:Events Booking
BEGIN:VEVENT
UID:69e6faad52c72
SUMMARY:Ετήσια Μουσικοχορευτική Παράσταση τ
 ου Λυκείου των Ελληνίδων Λαμίας
DESCRIPTION:Το Λύκειον των Ελληνίδων Λαμίας σα
 ς προσκαλεί στην καθιερωμένη ετήσια μου
 σικοχορευτική του παράσταση\, που θα πρα
 γματοποιηθεί την 1η Ιουνίου\, στις 20.00 στο
  Αμφιθέατρο της Ιεράς Μητροπόλεως Φθιώτ
 ιδος.
DTSTART:20250601T170000Z
DTEND:20250601T190000Z
DTSTAMP:20250628T103245Z
ORGANIZER;CN=Λύκειον των Ελληνίδων Λαμίας:MAILTO:i
 nfo@lykelam.gr
END:VEVENT
END:VCALENDAR